BEGIN:VCALENDAR
VERSION:2.0
PRODID:-//Portal STEM Education - ECPv6.15.20//NONSGML v1.0//EN
CALSCALE:GREGORIAN
METHOD:PUBLISH
X-WR-CALNAME:Portal STEM Education
X-ORIGINAL-URL:https://portal.stem.edu.gr
X-WR-CALDESC:Portal STEM Education - Εκδηλώσεις
REFRESH-INTERVAL;VALUE=DURATION:PT1H
X-Robots-Tag:noindex
X-PUBLISHED-TTL:PT1H
BEGIN:VTIMEZONE
TZID:Europe/Athens
BEGIN:DAYLIGHT
TZOFFSETFROM:+0200
TZOFFSETTO:+0300
TZNAME:EEST
DTSTART:20250330T010000
END:DAYLIGHT
BEGIN:STANDARD
TZOFFSETFROM:+0300
TZOFFSETTO:+0200
TZNAME:EET
DTSTART:20251026T010000
END:STANDARD
BEGIN:DAYLIGHT
TZOFFSETFROM:+0200
TZOFFSETTO:+0300
TZNAME:EEST
DTSTART:20260329T010000
END:DAYLIGHT
BEGIN:STANDARD
TZOFFSETFROM:+0300
TZOFFSETTO:+0200
TZNAME:EET
DTSTART:20261025T010000
END:STANDARD
BEGIN:DAYLIGHT
TZOFFSETFROM:+0200
TZOFFSETTO:+0300
TZNAME:EEST
DTSTART:20270328T010000
END:DAYLIGHT
BEGIN:STANDARD
TZOFFSETFROM:+0300
TZOFFSETTO:+0200
TZNAME:EET
DTSTART:20271031T010000
END:STANDARD
END:VTIMEZONE
BEGIN:VEVENT
DTSTART;TZID=Europe/Athens:20260321T080000
DTEND;TZID=Europe/Athens:20260321T170000
DTSTAMP:20260420T121425
CREATED:20260206T175220Z
LAST-MODIFIED:20260206T175220Z
UID:81392-1774080000-1774112400@portal.stem.edu.gr
SUMMARY:Περιφερειακός Διαγωνισμός των Κυκλάδων - Εκπαιδευτήρια ΔΕΛΑΣΑΛ Σύρου.
DESCRIPTION:
URL:https://portal.stem.edu.gr/stem_event/%cf%80%ce%b5%cf%81%ce%b9%cf%86%ce%b5%cf%81%ce%b5%ce%b9%ce%b1%ce%ba%cf%8c%cf%82-%ce%b4%ce%b9%ce%b1%ce%b3%cf%89%ce%bd%ce%b9%cf%83%ce%bc%cf%8c%cf%82-%cf%84%cf%89%ce%bd-%ce%ba%cf%85%ce%ba%ce%bb%ce%ac-2/
END:VEVENT
END:VCALENDAR