BEGIN:VCALENDAR
VERSION:2.0
PRODID:-//Portal STEM Education - ECPv6.15.20//NONSGML v1.0//EN
CALSCALE:GREGORIAN
METHOD:PUBLISH
X-WR-CALNAME:Portal STEM Education
X-ORIGINAL-URL:https://portal.stem.edu.gr
X-WR-CALDESC:Portal STEM Education - Εκδηλώσεις
REFRESH-INTERVAL;VALUE=DURATION:PT1H
X-Robots-Tag:noindex
X-PUBLISHED-TTL:PT1H
BEGIN:VTIMEZONE
TZID:Europe/Athens
BEGIN:DAYLIGHT
TZOFFSETFROM:+0200
TZOFFSETTO:+0300
TZNAME:EEST
DTSTART:20230326T010000
END:DAYLIGHT
BEGIN:STANDARD
TZOFFSETFROM:+0300
TZOFFSETTO:+0200
TZNAME:EET
DTSTART:20231029T010000
END:STANDARD
BEGIN:DAYLIGHT
TZOFFSETFROM:+0200
TZOFFSETTO:+0300
TZNAME:EEST
DTSTART:20240331T010000
END:DAYLIGHT
BEGIN:STANDARD
TZOFFSETFROM:+0300
TZOFFSETTO:+0200
TZNAME:EET
DTSTART:20241027T010000
END:STANDARD
BEGIN:DAYLIGHT
TZOFFSETFROM:+0200
TZOFFSETTO:+0300
TZNAME:EEST
DTSTART:20250330T010000
END:DAYLIGHT
BEGIN:STANDARD
TZOFFSETFROM:+0300
TZOFFSETTO:+0200
TZNAME:EET
DTSTART:20251026T010000
END:STANDARD
BEGIN:DAYLIGHT
TZOFFSETFROM:+0200
TZOFFSETTO:+0300
TZNAME:EEST
DTSTART:20260329T010000
END:DAYLIGHT
BEGIN:STANDARD
TZOFFSETFROM:+0300
TZOFFSETTO:+0200
TZNAME:EET
DTSTART:20261025T010000
END:STANDARD
END:VTIMEZONE
BEGIN:VEVENT
DTSTART;TZID=Europe/Athens:20250114T090000
DTEND;TZID=Europe/Athens:20250114T130000
DTSTAMP:20260423T101845
CREATED:20241231T185856Z
LAST-MODIFIED:20250123T063919Z
UID:33783-1736845200-1736859600@portal.stem.edu.gr
SUMMARY:B 01 1821 Μικρή Επανάσταση στην εκπαίδευση: Αναδεικνύουμε τις ψηφιακές δεξιότητες των Ελλήνων του Αύριο
DESCRIPTION:
URL:https://portal.stem.edu.gr/stem_event/b-01-1821-%ce%bc%ce%b9%ce%ba%cf%81%ce%ae-%ce%b5%cf%80%ce%b1%ce%bd%ce%ac%cf%83%cf%84%ce%b1%cf%83%ce%b7-%cf%83%cf%84%ce%b7%ce%bd-%ce%b5%ce%ba%cf%80%ce%b1%ce%af%ce%b4%ce%b5%cf%85%cf%83%ce%b7-%ce%b1/
LOCATION:Online
CATEGORIES:Μάθημα
END:VEVENT
BEGIN:VEVENT
DTSTART;TZID=Europe/Athens:20241217T153000
DTEND;TZID=Europe/Athens:20241217T193000
DTSTAMP:20260423T101845
CREATED:20241217T122127Z
LAST-MODIFIED:20250123T063938Z
UID:32653-1734449400-1734463800@portal.stem.edu.gr
SUMMARY:08 1821 Μικρή Επανάσταση στην εκπαίδευση: Αναδεικνύουμε τις ψηφιακές δεξιότητες των Ελλήνων του Αύριο
DESCRIPTION:
URL:https://portal.stem.edu.gr/stem_event/08-1821-%ce%bc%ce%b9%ce%ba%cf%81%ce%ae-%ce%b5%cf%80%ce%b1%ce%bd%ce%ac%cf%83%cf%84%ce%b1%cf%83%ce%b7-%cf%83%cf%84%ce%b7%ce%bd-%ce%b5%ce%ba%cf%80%ce%b1%ce%af%ce%b4%ce%b5%cf%85%cf%83%ce%b7-%ce%b1%ce%bd/
LOCATION:Online
CATEGORIES:Μάθημα
END:VEVENT
BEGIN:VEVENT
DTSTART;TZID=Europe/Athens:20241213T090000
DTEND;TZID=Europe/Athens:20241213T130000
DTSTAMP:20260423T101845
CREATED:20241213T165654Z
LAST-MODIFIED:20250123T063947Z
UID:32457-1734080400-1734094800@portal.stem.edu.gr
SUMMARY:07 1821 Μικρή Επανάσταση στην εκπαίδευση: Αναδεικνύουμε τις ψηφιακές δεξιότητες των Ελλήνων του Αύριο
DESCRIPTION:
URL:https://portal.stem.edu.gr/stem_event/04-1821-%ce%bc%ce%b9%ce%ba%cf%81%ce%ae-%ce%b5%cf%80%ce%b1%ce%bd%ce%ac%cf%83%cf%84%ce%b1%cf%83%ce%b7-%cf%83%cf%84%ce%b7%ce%bd-%ce%b5%ce%ba%cf%80%ce%b1%ce%af%ce%b4%ce%b5%cf%85%cf%83%ce%b7-%ce%b1%ce%bd/
LOCATION:Online
CATEGORIES:Μάθημα
END:VEVENT
BEGIN:VEVENT
DTSTART;TZID=Europe/Athens:20241212T153000
DTEND;TZID=Europe/Athens:20241212T193000
DTSTAMP:20260423T101845
CREATED:20241213T165838Z
LAST-MODIFIED:20241213T165838Z
UID:32461-1734017400-1734031800@portal.stem.edu.gr
SUMMARY:06 1821 Μικρή Επανάσταση στην εκπαίδευση: Αναδεικνύουμε τις ψηφιακές δεξιότητες των Ελλήνων του Αύριο
DESCRIPTION:
URL:https://portal.stem.edu.gr/stem_event/06-1821-%ce%bc%ce%b9%ce%ba%cf%81%ce%ae-%ce%b5%cf%80%ce%b1%ce%bd%ce%ac%cf%83%cf%84%ce%b1%cf%83%ce%b7-%cf%83%cf%84%ce%b7%ce%bd-%ce%b5%ce%ba%cf%80%ce%b1%ce%af%ce%b4%ce%b5%cf%85%cf%83%ce%b7-%ce%b1%ce%bd/
LOCATION:Online
END:VEVENT
BEGIN:VEVENT
DTSTART;TZID=Europe/Athens:20241211T090000
DTEND;TZID=Europe/Athens:20241211T130000
DTSTAMP:20260423T101845
CREATED:20241213T165957Z
LAST-MODIFIED:20241213T165957Z
UID:32463-1733907600-1733922000@portal.stem.edu.gr
SUMMARY:05 1821 Μικρή Επανάσταση στην εκπαίδευση: Αναδεικνύουμε τις ψηφιακές δεξιότητες των Ελλήνων του Αύριο
DESCRIPTION:
URL:https://portal.stem.edu.gr/stem_event/05-1821-%ce%bc%ce%b9%ce%ba%cf%81%ce%ae-%ce%b5%cf%80%ce%b1%ce%bd%ce%ac%cf%83%cf%84%ce%b1%cf%83%ce%b7-%cf%83%cf%84%ce%b7%ce%bd-%ce%b5%ce%ba%cf%80%ce%b1%ce%af%ce%b4%ce%b5%cf%85%cf%83%ce%b7-%ce%b1%ce%bd/
LOCATION:Online
END:VEVENT
BEGIN:VEVENT
DTSTART;TZID=Europe/Athens:20241206T090000
DTEND;TZID=Europe/Athens:20241206T130000
DTSTAMP:20260423T101845
CREATED:20241213T170201Z
LAST-MODIFIED:20241213T170201Z
UID:32465-1733475600-1733490000@portal.stem.edu.gr
SUMMARY:04 1821 Μικρή Επανάσταση στην εκπαίδευση: Αναδεικνύουμε τις ψηφιακές δεξιότητες των Ελλήνων του Αύριο
DESCRIPTION:
URL:https://portal.stem.edu.gr/stem_event/04-1821-%ce%bc%ce%b9%ce%ba%cf%81%ce%ae-%ce%b5%cf%80%ce%b1%ce%bd%ce%ac%cf%83%cf%84%ce%b1%cf%83%ce%b7-%cf%83%cf%84%ce%b7%ce%bd-%ce%b5%ce%ba%cf%80%ce%b1%ce%af%ce%b4%ce%b5%cf%85%cf%83%ce%b7-%ce%b1%ce%bd-2/
LOCATION:Online
END:VEVENT
BEGIN:VEVENT
DTSTART;TZID=Europe/Athens:20241205T153000
DTEND;TZID=Europe/Athens:20241205T193000
DTSTAMP:20260423T101845
CREATED:20241213T170350Z
LAST-MODIFIED:20241213T170350Z
UID:32467-1733412600-1733427000@portal.stem.edu.gr
SUMMARY:03 1821 Μικρή Επανάσταση στην εκπαίδευση: Αναδεικνύουμε τις ψηφιακές δεξιότητες των Ελλήνων του Αύριο
DESCRIPTION:
URL:https://portal.stem.edu.gr/stem_event/03-1821-%ce%bc%ce%b9%ce%ba%cf%81%ce%ae-%ce%b5%cf%80%ce%b1%ce%bd%ce%ac%cf%83%cf%84%ce%b1%cf%83%ce%b7-%cf%83%cf%84%ce%b7%ce%bd-%ce%b5%ce%ba%cf%80%ce%b1%ce%af%ce%b4%ce%b5%cf%85%cf%83%ce%b7-%ce%b1%ce%bd/
LOCATION:Online
END:VEVENT
BEGIN:VEVENT
DTSTART;TZID=Europe/Athens:20240920T160000
DTEND;TZID=Europe/Athens:20240920T200000
DTSTAMP:20260423T101845
CREATED:20240703T091201Z
LAST-MODIFIED:20240703T092239Z
UID:23311-1726848000-1726862400@portal.stem.edu.gr
SUMMARY:03 1821 Μικρή Επανάσταση στην εκπαίδευση: Αναδεικνύουμε τις ψηφιακές δεξιότητες των Ελλήνων του Αύριο
DESCRIPTION:
URL:https://portal.stem.edu.gr/stem_event/1821-%ce%bc%ce%b9%ce%ba%cf%81%ce%ae-%ce%b5%cf%80%ce%b1%ce%bd%ce%ac%cf%83%cf%84%ce%b1%cf%83%ce%b7-%cf%83%cf%84%ce%b7%ce%bd-%ce%b5%ce%ba%cf%80%ce%b1%ce%af%ce%b4%ce%b5%cf%85%cf%83%ce%b7-%ce%b1%ce%bd-2/
LOCATION:Online
END:VEVENT
BEGIN:VEVENT
DTSTART;TZID=Europe/Athens:20240918T160000
DTEND;TZID=Europe/Athens:20240918T200000
DTSTAMP:20260423T101845
CREATED:20240703T091747Z
LAST-MODIFIED:20240703T093101Z
UID:23317-1726675200-1726689600@portal.stem.edu.gr
SUMMARY:02 1821 Μικρή Επανάσταση στην εκπαίδευση: Αναδεικνύουμε τις ψηφιακές δεξιότητες των Ελλήνων του Αύριο
DESCRIPTION:
URL:https://portal.stem.edu.gr/stem_event/1821-%ce%bc%ce%b9%ce%ba%cf%81%ce%ae-%ce%b5%cf%80%ce%b1%ce%bd%ce%ac%cf%83%cf%84%ce%b1%cf%83%ce%b7-%cf%83%cf%84%ce%b7%ce%bd-%ce%b5%ce%ba%cf%80%ce%b1%ce%af%ce%b4%ce%b5%cf%85%cf%83%ce%b7-%ce%b1%ce%bd/
LOCATION:Online
END:VEVENT
BEGIN:VEVENT
DTSTART;TZID=Europe/Athens:20240916T160000
DTEND;TZID=Europe/Athens:20240916T200000
DTSTAMP:20260423T101845
CREATED:20240703T091521Z
LAST-MODIFIED:20240703T092222Z
UID:23310-1726502400-1726516800@portal.stem.edu.gr
SUMMARY:01 1821 Μικρή Επανάσταση στην εκπαίδευση: Αναδεικνύουμε τις ψηφιακές δεξιότητες των Ελλήνων του Αύριο
DESCRIPTION:
URL:https://portal.stem.edu.gr/stem_event/1821-%ce%bc%ce%b9%ce%ba%cf%81%ce%ae-%ce%b5%cf%80%ce%b1%ce%bd%ce%ac%cf%83%cf%84%ce%b1%cf%83%ce%b7-%cf%83%cf%84%ce%b7%ce%bd-%ce%b5%ce%ba%cf%80%ce%b1%ce%af%ce%b4%ce%b5%cf%85%cf%83%ce%b7-%ce%b1%ce%bd-3/
LOCATION:Online
END:VEVENT
BEGIN:VEVENT
DTSTART;TZID=Europe/Athens:20240523T080000
DTEND;TZID=Europe/Athens:20240523T170000
DTSTAMP:20260423T101845
CREATED:20240531T113658Z
LAST-MODIFIED:20240531T113720Z
UID:22906-1716451200-1716483600@portal.stem.edu.gr
SUMMARY:EPAFOS OPEN DAY 23 Μαΐου 2024
DESCRIPTION:Εγγραφόμενοι στην εκδήλωση αυτή θα μπορείτε να έχετε πρόσβαση σε υλικό και στοχευμένες ενημερώσεις του Οργανισμού μας.
URL:https://portal.stem.edu.gr/stem_event/epafos-open-day-23-%ce%bc%ce%b1%ce%90%ce%bf%cf%85-2024/
END:VEVENT
END:VCALENDAR