BEGIN:VCALENDAR
VERSION:2.0
PRODID:-//Portal STEM Education - ECPv6.15.20//NONSGML v1.0//EN
CALSCALE:GREGORIAN
METHOD:PUBLISH
X-ORIGINAL-URL:https://portal.stem.edu.gr
X-WR-CALDESC:Portal STEM Education - Εκδηλώσεις
REFRESH-INTERVAL;VALUE=DURATION:PT1H
X-Robots-Tag:noindex
X-PUBLISHED-TTL:PT1H
BEGIN:VTIMEZONE
TZID:Europe/Athens
BEGIN:DAYLIGHT
TZOFFSETFROM:+0200
TZOFFSETTO:+0300
TZNAME:EEST
DTSTART:20250330T010000
END:DAYLIGHT
BEGIN:STANDARD
TZOFFSETFROM:+0300
TZOFFSETTO:+0200
TZNAME:EET
DTSTART:20251026T010000
END:STANDARD
BEGIN:DAYLIGHT
TZOFFSETFROM:+0200
TZOFFSETTO:+0300
TZNAME:EEST
DTSTART:20260329T010000
END:DAYLIGHT
BEGIN:STANDARD
TZOFFSETFROM:+0300
TZOFFSETTO:+0200
TZNAME:EET
DTSTART:20261025T010000
END:STANDARD
BEGIN:DAYLIGHT
TZOFFSETFROM:+0200
TZOFFSETTO:+0300
TZNAME:EEST
DTSTART:20270328T010000
END:DAYLIGHT
BEGIN:STANDARD
TZOFFSETFROM:+0300
TZOFFSETTO:+0200
TZNAME:EET
DTSTART:20271031T010000
END:STANDARD
END:VTIMEZONE
BEGIN:VEVENT
DTSTART;TZID=Europe/Athens:20260426T090000
DTEND;TZID=Europe/Athens:20260426T170000
DTSTAMP:20260422T021335
CREATED:20260320T064841Z
LAST-MODIFIED:20260320T064841Z
UID:88926-1777194000-1777222800@portal.stem.edu.gr
SUMMARY:Τελικός Πανελλήνιου Διαγωνισμού STEM 2026\, Κυριακή 26 Απριλίου 2026\, Εκθεσιακό Κέντρο HELEXPO\, Μαρούσι Αττικής.
DESCRIPTION:
URL:https://portal.stem.edu.gr/stem_event/%cf%84%ce%b5%ce%bb%ce%b9%ce%ba%cf%8c%cf%82-%cf%80%ce%b1%ce%bd%ce%b5%ce%bb%ce%bb%ce%ae%ce%bd%ce%b9%ce%bf%cf%85-%ce%b4%ce%b9%ce%b1%ce%b3%cf%89%ce%bd%ce%b9%cf%83%ce%bc%ce%bf%cf%8d-stem-2026-%ce%ba-2/
END:VEVENT
END:VCALENDAR